BEGIN:VCALENDAR
VERSION:2.0
PRODID:-//350 Bay Area | For The Climate - ECPv6.0.1.1//NONSGML v1.0//EN
CALSCALE:GREGORIAN
METHOD:PUBLISH
X-WR-CALNAME:350 Bay Area | For The Climate
X-ORIGINAL-URL:https://350bayarea.org
X-WR-CALDESC:Events for 350 Bay Area | For The Climate
REFRESH-INTERVAL;VALUE=DURATION:PT1H
X-Robots-Tag:noindex
X-PUBLISHED-TTL:PT1H
BEGIN:VTIMEZONE
TZID:America/Los_Angeles
BEGIN:DAYLIGHT
TZOFFSETFROM:-0800
TZOFFSETTO:-0700
TZNAME:PDT
DTSTART:20220313T100000
END:DAYLIGHT
BEGIN:STANDARD
TZOFFSETFROM:-0700
TZOFFSETTO:-0800
TZNAME:PST
DTSTART:20221106T090000
END:STANDARD
END:VTIMEZONE
BEGIN:VEVENT
DTSTART;TZID=America/Los_Angeles:20220707T173000
DTEND;TZID=America/Los_Angeles:20220707T183000
DTSTAMP:20260423T121800
CREATED:20220707T001902Z
LAST-MODIFIED:20240328T163521Z
UID:6736-1657215000-1657218600@350bayarea.org
SUMMARY:Art Team Monthly Meeting
DESCRIPTION:Art Team Monthly Meeting\nThe Art Team is a space for creatives to come together and make art for the climate movement. We meet every first Thursday of the month from 5:30 – 6:30pm. \nRSVP HERE to get the zoom link:  \nhttps://us02web.zoom.us/meeting/register/tZIoce-spjkpHdRRVk5ieksKzcucvkx0bm0_ \nWe hope to see you there!
URL:https://350bayarea.org/event/art-team-monthly-meeting/2022-07-07
ATTACH;FMTTYPE=image/png:https://350bayarea.org/wp-content/uploads/2022/07/5.png
END:VEVENT
END:VCALENDAR