BEGIN:VCALENDAR
VERSION:2.0
PRODID:-//350 Bay Area | For The Climate - ECPv6.0.1.1//NONSGML v1.0//EN
CALSCALE:GREGORIAN
METHOD:PUBLISH
X-WR-CALNAME:350 Bay Area | For The Climate
X-ORIGINAL-URL:https://350bayarea.org
X-WR-CALDESC:Events for 350 Bay Area | For The Climate
REFRESH-INTERVAL;VALUE=DURATION:PT1H
X-Robots-Tag:noindex
X-PUBLISHED-TTL:PT1H
BEGIN:VTIMEZONE
TZID:America/Los_Angeles
BEGIN:DAYLIGHT
TZOFFSETFROM:-0800
TZOFFSETTO:-0700
TZNAME:PDT
DTSTART:20250309T100000
END:DAYLIGHT
BEGIN:STANDARD
TZOFFSETFROM:-0700
TZOFFSETTO:-0800
TZNAME:PST
DTSTART:20251102T090000
END:STANDARD
END:VTIMEZONE
BEGIN:VEVENT
DTSTART;TZID=America/Los_Angeles:20250202T150000
DTEND;TZID=America/Los_Angeles:20250202T170000
DTSTAMP:20260424T093329
CREATED:20250124T043529Z
LAST-MODIFIED:20250124T043529Z
UID:13834-1738508400-1738515600@350bayarea.org
SUMMARY:350 BAA Legislative Training Session
DESCRIPTION:We invite you to help push for stronger climate policy this year…Join us on February 2 at 3pm on Zoom to learn how! 350 Bay Area Action’s annual California State Legislative Training will help you build your advocacy skills. No prior experience needed; we’ll demystify the legislative process to get climate bills PASSED. Register in advance for this meeting here: https://us02web.zoom.us/meeting/register/zRqPiQcXRtCIA5Hd1276oA#/registration \n 
URL:https://350bayarea.org/event/350-baa-legislative-training-session
ATTACH;FMTTYPE=image/png:https://350bayarea.org/wp-content/uploads/2025/01/350-baa-leg-training.png
END:VEVENT
BEGIN:VEVENT
DTSTART;TZID=America/Los_Angeles:20250204T173000
DTEND;TZID=America/Los_Angeles:20250204T193000
DTSTAMP:20260424T093329
CREATED:20220707T005832Z
LAST-MODIFIED:20250113T054422Z
UID:10606-1738690200-1738697400@350bayarea.org
SUMMARY:350Marin February Meeting (Cancelled\, see you in March!)
DESCRIPTION:350Marin Monthly Meeting (Cancelled\, see you in March!)\n350Marin volunteers meet online at 5:00pm on the first Tuesday of the month. Join in to become more active in Marin! \nPlease RSVP below for a meeting link\, or contact us at info@350marin.org for more information.
URL:https://350bayarea.org/event/350-marin-monthly-meeting-2025-02-04
CATEGORIES:Meeting
ATTACH;FMTTYPE=image/png:https://350bayarea.org/wp-content/uploads/2022/07/21-marin1.png
END:VEVENT
BEGIN:VEVENT
DTSTART;TZID=America/Los_Angeles:20250216T103000
DTEND;TZID=America/Los_Angeles:20250216T120000
DTSTAMP:20260424T093329
CREATED:20220707T011430Z
LAST-MODIFIED:20240523T212742Z
UID:10725-1739701800-1739707200@350bayarea.org
SUMMARY:Transportation Monthly Meeting
DESCRIPTION:Transportation Monthly Meeting\n\nTransportation is the Bay Area’s biggest single source of greenhouse gas emissions – and emissions are expected to increase again as travel increases and transit ridership remains low. Localities\, even those that have declared a climate emergency\, are not meeting their climate goals. \nJoin us to work on electrifying transportation\, supporting charging infrastructure\, cleaner trucks\, and providing safe\, clean\, cheap\, convenient on-time transit for everyone. View the agenda here. \nRSVP to this monthly meeting:
URL:https://350bayarea.org/event/transportation-monthly-meeting/2025-02-16
CATEGORIES:Meeting
ATTACH;FMTTYPE=image/png:https://350bayarea.org/wp-content/uploads/2022/07/8.png
END:VEVENT
BEGIN:VEVENT
DTSTART;TZID=America/Los_Angeles:20250225T170000
DTEND;TZID=America/Los_Angeles:20250225T180000
DTSTAMP:20260424T093329
CREATED:20250213T024844Z
LAST-MODIFIED:20260416T170442Z
UID:13943-1740502800-1740506400@350bayarea.org
SUMMARY:350 Bay Area Monthly Climate Action Meeting
DESCRIPTION:The 350 Bay Area Monthly Climate Action Meetings are an online event for people to get plugged in and charged up with climate action! Join this monthly call to take action together online for the climate. \nIn this hour\, we give a mini-training about an important topic or skill in climate organizing\, update you on local happenings in the climate movement\, and take actions together to make a real impact. \nRegister at our NEW Zoom link here\, and you’ll be registered for all of the year’s Monthly Climate Action Meetings! https://us02web.zoom.us/meeting/register/tZcoceChrT4uEtUs01qCJ1hYBWeg4p8n1jPQ
URL:https://350bayarea.org/event/mcam/2025-02-25
CATEGORIES:Meeting
ATTACH;FMTTYPE=image/png:https://350bayarea.org/wp-content/uploads/2023/01/MCAM-2.png
END:VEVENT
END:VCALENDAR