BEGIN:VCALENDAR
VERSION:2.0
PRODID:-//350 Bay Area | For The Climate - ECPv6.0.1.1//NONSGML v1.0//EN
CALSCALE:GREGORIAN
METHOD:PUBLISH
X-ORIGINAL-URL:https://350bayarea.org
X-WR-CALDESC:Events for 350 Bay Area | For The Climate
REFRESH-INTERVAL;VALUE=DURATION:PT1H
X-Robots-Tag:noindex
X-PUBLISHED-TTL:PT1H
BEGIN:VTIMEZONE
TZID:America/Los_Angeles
BEGIN:DAYLIGHT
TZOFFSETFROM:-0800
TZOFFSETTO:-0700
TZNAME:PDT
DTSTART:20250309T100000
END:DAYLIGHT
BEGIN:STANDARD
TZOFFSETFROM:-0700
TZOFFSETTO:-0800
TZNAME:PST
DTSTART:20251102T090000
END:STANDARD
END:VTIMEZONE
BEGIN:VEVENT
DTSTART;TZID=America/Los_Angeles:20250107T173000
DTEND;TZID=America/Los_Angeles:20250107T193000
DTSTAMP:20260420T064158
CREATED:20220707T005832Z
LAST-MODIFIED:20260111T065056Z
UID:10313-1736271000-1736278200@350bayarea.org
SUMMARY:350Marin Monthly Meeting
DESCRIPTION:350Marin Monthly Meeting\n350Marin volunteers meet online at 5:00pm on the first Tuesday of the month. Join in to become more active in Marin! \nPlease RSVP below for a meeting link\, or contact us at info@350marin.org for more information.
URL:https://350bayarea.org/event/350-marin-monthly-meeting/2025-01-07
CATEGORIES:Meeting
ATTACH;FMTTYPE=image/png:https://350bayarea.org/wp-content/uploads/2022/07/21-marin1.png
END:VEVENT
BEGIN:VEVENT
DTSTART;TZID=America/Los_Angeles:20250119T103000
DTEND;TZID=America/Los_Angeles:20250119T120000
DTSTAMP:20260420T064158
CREATED:20220707T011430Z
LAST-MODIFIED:20240523T212741Z
UID:10544-1737282600-1737288000@350bayarea.org
SUMMARY:Transportation Monthly Meeting
DESCRIPTION:Transportation Monthly Meeting\n\nTransportation is the Bay Area’s biggest single source of greenhouse gas emissions – and emissions are expected to increase again as travel increases and transit ridership remains low. Localities\, even those that have declared a climate emergency\, are not meeting their climate goals. \nJoin us to work on electrifying transportation\, supporting charging infrastructure\, cleaner trucks\, and providing safe\, clean\, cheap\, convenient on-time transit for everyone. View the agenda here. \nRSVP to this monthly meeting:
URL:https://350bayarea.org/event/transportation-monthly-meeting/2025-01-19
CATEGORIES:Meeting
ATTACH;FMTTYPE=image/png:https://350bayarea.org/wp-content/uploads/2022/07/8.png
END:VEVENT
BEGIN:VEVENT
DTSTART;TZID=America/Los_Angeles:20250128T170000
DTEND;TZID=America/Los_Angeles:20250128T180000
DTSTAMP:20260420T064158
CREATED:20241219T191719Z
LAST-MODIFIED:20250123T064546Z
UID:13781-1738083600-1738087200@350bayarea.org
SUMMARY:350 Bay Area Monthly Climate Action Meeting + 2025 Campaign Launch!
DESCRIPTION:The 350 Bay Area Monthly Climate Action Meetings are an online event for people to get plugged in and charged up with climate action! Join this monthly call to take action together online for the climate. \nFor our first MCAM of the year\, join us to learn more about the exciting campaigns we’re working on in 2025 and how YOU can get involved to make a difference! \nRegister at our NEW Zoom link here\, and you’ll be able to access every Monthly Climate Action Meeting for the rest of the year! https://us02web.zoom.us/meeting/register/tZcoceChrT4uEtUs01qCJ1hYBWeg4p8n1jPQ
URL:https://350bayarea.org/event/mcam-2025-launch
ATTACH;FMTTYPE=image/png:https://350bayarea.org/wp-content/uploads/2023/01/MCAM-2.png
END:VEVENT
END:VCALENDAR