BEGIN:VCALENDAR
VERSION:2.0
PRODID:-//350 Bay Area | For The Climate - ECPv6.0.1.1//NONSGML v1.0//EN
CALSCALE:GREGORIAN
METHOD:PUBLISH
X-WR-CALNAME:350 Bay Area | For The Climate
X-ORIGINAL-URL:https://350bayarea.org
X-WR-CALDESC:Events for 350 Bay Area | For The Climate
REFRESH-INTERVAL;VALUE=DURATION:PT1H
X-Robots-Tag:noindex
X-PUBLISHED-TTL:PT1H
BEGIN:VTIMEZONE
TZID:America/Los_Angeles
BEGIN:DAYLIGHT
TZOFFSETFROM:-0800
TZOFFSETTO:-0700
TZNAME:PDT
DTSTART:20220313T100000
END:DAYLIGHT
BEGIN:STANDARD
TZOFFSETFROM:-0700
TZOFFSETTO:-0800
TZNAME:PST
DTSTART:20221106T090000
END:STANDARD
END:VTIMEZONE
BEGIN:VEVENT
DTSTART;TZID=America/Los_Angeles:20220705T173000
DTEND;TZID=America/Los_Angeles:20220705T193000
DTSTAMP:20260423T105940
CREATED:20220707T005832Z
LAST-MODIFIED:20260111T065023Z
UID:6900-1657042200-1657049400@350bayarea.org
SUMMARY:350Marin Monthly Meeting
DESCRIPTION:350Marin Monthly Meeting\n350Marin volunteers meet online at 5:00pm on the first Tuesday of the month. Join in to become more active in Marin! \nPlease RSVP below for a meeting link\, or contact us at info@350marin.org for more information.
URL:https://350bayarea.org/event/350-marin-monthly-meeting/2022-07-05
CATEGORIES:Meeting
ATTACH;FMTTYPE=image/png:https://350bayarea.org/wp-content/uploads/2022/07/21-marin1.png
END:VEVENT
BEGIN:VEVENT
DTSTART;TZID=America/Los_Angeles:20220707T173000
DTEND;TZID=America/Los_Angeles:20220707T183000
DTSTAMP:20260423T105940
CREATED:20220707T001902Z
LAST-MODIFIED:20240328T163521Z
UID:6736-1657215000-1657218600@350bayarea.org
SUMMARY:Art Team Monthly Meeting
DESCRIPTION:Art Team Monthly Meeting\nThe Art Team is a space for creatives to come together and make art for the climate movement. We meet every first Thursday of the month from 5:30 – 6:30pm. \nRSVP HERE to get the zoom link:  \nhttps://us02web.zoom.us/meeting/register/tZIoce-spjkpHdRRVk5ieksKzcucvkx0bm0_ \nWe hope to see you there!
URL:https://350bayarea.org/event/art-team-monthly-meeting/2022-07-07
ATTACH;FMTTYPE=image/png:https://350bayarea.org/wp-content/uploads/2022/07/5.png
END:VEVENT
BEGIN:VEVENT
DTSTART;TZID=America/Los_Angeles:20220717T103000
DTEND;TZID=America/Los_Angeles:20220717T120000
DTSTAMP:20260423T105940
CREATED:20220707T011430Z
LAST-MODIFIED:20240523T212731Z
UID:6972-1658053800-1658059200@350bayarea.org
SUMMARY:Transportation Monthly Meeting
DESCRIPTION:Transportation Monthly Meeting\n\nTransportation is the Bay Area’s biggest single source of greenhouse gas emissions – and emissions are expected to increase again as travel increases and transit ridership remains low. Localities\, even those that have declared a climate emergency\, are not meeting their climate goals. \nJoin us to work on electrifying transportation\, supporting charging infrastructure\, cleaner trucks\, and providing safe\, clean\, cheap\, convenient on-time transit for everyone. View the agenda here. \nRSVP to this monthly meeting:
URL:https://350bayarea.org/event/transportation-monthly-meeting/2022-07-17
CATEGORIES:Meeting
ATTACH;FMTTYPE=image/png:https://350bayarea.org/wp-content/uploads/2022/07/8.png
END:VEVENT
END:VCALENDAR