BEGIN:VCALENDAR
VERSION:2.0
PRODID:-//350 Bay Area | For The Climate - ECPv6.0.1.1//NONSGML v1.0//EN
CALSCALE:GREGORIAN
METHOD:PUBLISH
X-WR-CALNAME:350 Bay Area | For The Climate
X-ORIGINAL-URL:https://350bayarea.org
X-WR-CALDESC:Events for 350 Bay Area | For The Climate
REFRESH-INTERVAL;VALUE=DURATION:PT1H
X-Robots-Tag:noindex
X-PUBLISHED-TTL:PT1H
BEGIN:VTIMEZONE
TZID:America/Los_Angeles
BEGIN:DAYLIGHT
TZOFFSETFROM:-0800
TZOFFSETTO:-0700
TZNAME:PDT
DTSTART:20260308T100000
END:DAYLIGHT
BEGIN:STANDARD
TZOFFSETFROM:-0700
TZOFFSETTO:-0800
TZNAME:PST
DTSTART:20261101T090000
END:STANDARD
END:VTIMEZONE
BEGIN:VEVENT
DTSTART;TZID=America/Los_Angeles:20260501T090000
DTEND;TZID=America/Los_Angeles:20260501T113000
DTSTAMP:20260425T043354
CREATED:20260424T220436Z
LAST-MODIFIED:20260424T220436Z
UID:16218-1777626000-1777635000@350bayarea.org
SUMMARY:Oakland Airport May Day
DESCRIPTION:Meet: ILWU Local 6 Union Hall\, 99 Hegenberger Road\, Oakland \nDoors open at 9am and start time is 9:30am\, we will have coffee and then kick off! \nOn May Day\, The Joyous Rebellion Comes to the Oakland Airport! \nEnd US Wars! Arms Embargo Now – Stop Fedex Shipping Killer Cargo to Israel \nTax the Rich! End the billionaire takeover \nAbolish ICE! Hands off our communities
URL:https://350bayarea.org/event/oakland-airport-may-day
LOCATION:ILWU Local 6 Union Hall\, 99 Hegenberger Road\, Oakland
END:VEVENT
BEGIN:VEVENT
DTSTART;TZID=America/Los_Angeles:20260501T110000
DTEND;TZID=America/Los_Angeles:20260501T130000
DTSTAMP:20260425T043354
CREATED:20260424T220734Z
LAST-MODIFIED:20260424T220734Z
UID:16221-1777633200-1777640400@350bayarea.org
SUMMARY:ICE out of SFO
DESCRIPTION:Join May 1st 11 AM at SFO International Terminal\, Departures. Outside on the sidewalk \nGreedy airlines are making billions exploiting immigrant workers while backing the MAGA agenda to fund ICE terror. Join us to demand United Airlines pay workers a living wage and all airlines end support for ICE abductions at SFO.
URL:https://350bayarea.org/event/ice-out-of-sfo
END:VEVENT
BEGIN:VEVENT
DTSTART;TZID=America/Los_Angeles:20260501T140000
DTEND;TZID=America/Los_Angeles:20260501T170000
DTSTAMP:20260425T043354
CREATED:20260424T220241Z
LAST-MODIFIED:20260424T220309Z
UID:16212-1777644000-1777654800@350bayarea.org
SUMMARY:Climate Contingent at Oakland May Day Fair\, Rally\, and March
DESCRIPTION:Join the Make Polluters Pay contingent for May Day at Fruitvale Plaza. The May Day event is hosted by Oakland Sin Fronteras. There will be a resource fair at 2pm\, the rally begins at 3pm\, and the march begins at 4pm. \nStay tuned for details about where to meetup with the climate contingent. \nhttps://actionnetwork.org/events/oakland-may-day
URL:https://350bayarea.org/event/oakland-may-day
LOCATION:Fruitvale Plaza\, 3301 E 12th St\, Oakland\, CA 94601 US
CATEGORIES:Fairs and Festivals,Fundraiser,Meeting
ATTACH;FMTTYPE=image/jpeg:https://350bayarea.org/wp-content/uploads/2026/04/image-1774976723-1.jpg
END:VEVENT
BEGIN:VEVENT
DTSTART;TZID=America/Los_Angeles:20260501T140000
DTEND;TZID=America/Los_Angeles:20260501T170000
DTSTAMP:20260425T043354
CREATED:20260424T221136Z
LAST-MODIFIED:20260424T221136Z
UID:16223-1777644000-1777654800@350bayarea.org
SUMMARY:Climate Contingent at SF May Day March
DESCRIPTION:Workers’ Needs over Billionaires Greed! No War\, No Cuts\, No ICE!  \nhttps://actionnetwork.org/events/san-francisco-may-day-climate-contingent
URL:https://350bayarea.org/event/climate-contingent-at-sf-may-day-march
LOCATION:Civic Center Plaza\, SF
CATEGORIES:Actions
ATTACH;FMTTYPE=image/png:https://350bayarea.org/wp-content/uploads/2026/04/May-Day-sf.png
END:VEVENT
BEGIN:VEVENT
DTSTART;TZID=America/Los_Angeles:20260501T140000
DTEND;TZID=America/Los_Angeles:20260501T170000
DTSTAMP:20260425T043354
CREATED:20260424T221304Z
LAST-MODIFIED:20260424T221304Z
UID:16228-1777644000-1777654800@350bayarea.org
SUMMARY:Climate Contingent at San Jose May Day Rally and March
DESCRIPTION:Unite with other climate activists in the South Bay\, as we stand in solidarity with labor and immigrant rights organizations. We call for a Just Transition away from fossil fuels\, rejecting Big Oil attempts at legal immunity\, and insisting that we Make Polluters Pay for the climate damage they have done. \nMake Polluters Pay members across California are joining May Day events. We’ll have some Make Polluters Pay signs (bring the signs we handed out at No Kings and/or wear your Make Polluters Pay shirts if you’ve got them). We will be joining local workers\, immigrants\, and climate activists at the rally at Story & King Rds (Plaza de Coatlique) at 2:00\, then staying together as a climate contingent for the march to San José City Hall that begins at 3:00. \nhttps://actionnetwork.org/events/san-jose-may-day-make-polluters-pay-climate-contingent 
URL:https://350bayarea.org/event/climate-contingent-at-san-jose-may-day-rally-and-march
CATEGORIES:Actions
ATTACH;FMTTYPE=image/png:https://350bayarea.org/wp-content/uploads/2026/04/SJ-MPP-contingent.png
END:VEVENT
END:VCALENDAR