BEGIN:VCALENDAR
VERSION:2.0
PRODID:-//350 Bay Area | For The Climate - ECPv6.0.1.1//NONSGML v1.0//EN
CALSCALE:GREGORIAN
METHOD:PUBLISH
X-ORIGINAL-URL:https://350bayarea.org
X-WR-CALDESC:Events for 350 Bay Area | For The Climate
REFRESH-INTERVAL;VALUE=DURATION:PT1H
X-Robots-Tag:noindex
X-PUBLISHED-TTL:PT1H
BEGIN:VTIMEZONE
TZID:America/Los_Angeles
BEGIN:DAYLIGHT
TZOFFSETFROM:-0800
TZOFFSETTO:-0700
TZNAME:PDT
DTSTART:20260308T100000
END:DAYLIGHT
BEGIN:STANDARD
TZOFFSETFROM:-0700
TZOFFSETTO:-0800
TZNAME:PST
DTSTART:20261101T090000
END:STANDARD
END:VTIMEZONE
BEGIN:VEVENT
DTSTART;TZID=America/Los_Angeles:20260420T150000
DTEND;TZID=America/Los_Angeles:20260420T163000
DTSTAMP:20260423T113520
CREATED:20260416T000305Z
LAST-MODIFIED:20260416T000510Z
UID:16151-1776697200-1776702600@350bayarea.org
SUMMARY:Panel: Reducing Global Heat within Timeframes that Matter (feat. 350BA's Napa Climate Now!)
DESCRIPTION:The 350 Bay Area Monthly Climate Action Meetings are an online event for people to get plugged in and charged up with climate action! Join this monthly call to take action together online for the climate. \nIn this hour\, we give a mini-training about an important topic or skill in climate organizing\, update you on local happenings in the climate movement\, and take actions together to make a real impact. \nRegister at our NEW Zoom link here\, and you’ll be registered for all of the year’s Monthly Climate Action Meetings! https://us02web.zoom.us/meeting/register/tZcoceChrT4uEtUs01qCJ1hYBWeg4p8n1jPQ
URL:https://luma.com/0ejt3ewb#new_tab
CATEGORIES:Trainings
ATTACH;FMTTYPE=image/png:https://350bayarea.org/wp-content/uploads/2026/04/Screenshot-2026-04-15-170113.png
END:VEVENT
BEGIN:VEVENT
DTSTART;TZID=America/Los_Angeles:20260422T120000
DTEND;TZID=America/Los_Angeles:20260422T133000
DTSTAMP:20260423T113520
CREATED:20260416T004712Z
LAST-MODIFIED:20260416T004712Z
UID:16156-1776859200-1776864600@350bayarea.org
SUMMARY:Community Workshop: Understanding Your Energy Bill with WOEIP
DESCRIPTION:The 350 Bay Area Monthly Climate Action Meetings are an online event for people to get plugged in and charged up with climate action! Join this monthly call to take action together online for the climate. \nIn this hour\, we give a mini-training about an important topic or skill in climate organizing\, update you on local happenings in the climate movement\, and take actions together to make a real impact. \nRegister at our NEW Zoom link here\, and you’ll be registered for all of the year’s Monthly Climate Action Meetings! https://us02web.zoom.us/meeting/register/tZcoceChrT4uEtUs01qCJ1hYBWeg4p8n1jPQ
URL:https://woeip.org/events/?effe=1595&#038;effe-id=1985763224259#new_tab
CATEGORIES:Community Building,Trainings
ATTACH;FMTTYPE=image/png:https://350bayarea.org/wp-content/uploads/2026/04/Screenshot-2026-04-15-174640.png
END:VEVENT
BEGIN:VEVENT
DTSTART;TZID=America/Los_Angeles:20260423T150000
DTEND;TZID=America/Los_Angeles:20260423T170000
DTSTAMP:20260423T113520
CREATED:20260416T211338Z
LAST-MODIFIED:20260416T211359Z
UID:16193-1776956400-1776963600@350bayarea.org
SUMMARY:The Future of Oil and Gas in California
DESCRIPTION:The 350 Bay Area Monthly Climate Action Meetings are an online event for people to get plugged in and charged up with climate action! Join this monthly call to take action together online for the climate. \nIn this hour\, we give a mini-training about an important topic or skill in climate organizing\, update you on local happenings in the climate movement\, and take actions together to make a real impact. \nRegister at our NEW Zoom link here\, and you’ll be registered for all of the year’s Monthly Climate Action Meetings! https://us02web.zoom.us/meeting/register/tZcoceChrT4uEtUs01qCJ1hYBWeg4p8n1jPQ
URL:https://350bayarea.org/event/the-future-of-oil-and-gas-in-california
CATEGORIES:Trainings
END:VEVENT
BEGIN:VEVENT
DTSTART;TZID=America/Los_Angeles:20260423T170000
DTEND;TZID=America/Los_Angeles:20260423T190000
DTSTAMP:20260423T113520
CREATED:20260326T221020Z
LAST-MODIFIED:20260416T170401Z
UID:16053-1776963600-1776970800@350bayarea.org
SUMMARY:Climate Action Night at SRJC!
DESCRIPTION:The 350 Bay Area Monthly Climate Action Meetings are an online event for people to get plugged in and charged up with climate action! Join this monthly call to take action together online for the climate. \nIn this hour\, we give a mini-training about an important topic or skill in climate organizing\, update you on local happenings in the climate movement\, and take actions together to make a real impact. \nRegister at our NEW Zoom link here\, and you’ll be registered for all of the year’s Monthly Climate Action Meetings! https://us02web.zoom.us/meeting/register/tZcoceChrT4uEtUs01qCJ1hYBWeg4p8n1jPQ
URL:https://climateactionnight.com/
CATEGORIES:Actions,Fairs and Festivals,Trainings
END:VEVENT
BEGIN:VEVENT
DTSTART;TZID=America/Los_Angeles:20260425T103000
DTEND;TZID=America/Los_Angeles:20260425T133000
DTSTAMP:20260423T113520
CREATED:20260423T010455Z
LAST-MODIFIED:20260423T010455Z
UID:16203-1777113000-1777123800@350bayarea.org
SUMMARY:May Day Climate Art Build
DESCRIPTION:The 350 Bay Area Monthly Climate Action Meetings are an online event for people to get plugged in and charged up with climate action! Join this monthly call to take action together online for the climate. \nIn this hour\, we give a mini-training about an important topic or skill in climate organizing\, update you on local happenings in the climate movement\, and take actions together to make a real impact. \nRegister at our NEW Zoom link here\, and you’ll be registered for all of the year’s Monthly Climate Action Meetings! https://us02web.zoom.us/meeting/register/tZcoceChrT4uEtUs01qCJ1hYBWeg4p8n1jPQ
URL:https://350bayarea.org/event/may-day-climate-art-build
CATEGORIES:Community Building
END:VEVENT
BEGIN:VEVENT
DTSTART;TZID=America/Los_Angeles:20260425T120000
DTEND;TZID=America/Los_Angeles:20260425T150000
DTSTAMP:20260423T113520
CREATED:20260326T184359Z
LAST-MODIFIED:20260407T184942Z
UID:16047-1777118400-1777129200@350bayarea.org
SUMMARY:Love Our Earth Festival: Love Our Communities
DESCRIPTION:The 350 Bay Area Monthly Climate Action Meetings are an online event for people to get plugged in and charged up with climate action! Join this monthly call to take action together online for the climate. \nIn this hour\, we give a mini-training about an important topic or skill in climate organizing\, update you on local happenings in the climate movement\, and take actions together to make a real impact. \nRegister at our NEW Zoom link here\, and you’ll be registered for all of the year’s Monthly Climate Action Meetings! https://us02web.zoom.us/meeting/register/tZcoceChrT4uEtUs01qCJ1hYBWeg4p8n1jPQ
URL:https://350bayarea.org/event/love-our-earth-festival-love-our-communities
LOCATION:2450 Ralmar Avenue  East Palo Alto\, CA 94303\, East Palo Alto
CATEGORIES:Fairs and Festivals
ATTACH;FMTTYPE=image/png:https://350bayarea.org/wp-content/uploads/2026/03/ENG_LOEF-2026-2.png
END:VEVENT
BEGIN:VEVENT
DTSTART;TZID=America/Los_Angeles:20260425T133000
DTEND;TZID=America/Los_Angeles:20260425T143000
DTSTAMP:20260423T113520
CREATED:20260401T212616Z
LAST-MODIFIED:20260416T170341Z
UID:16064-1777123800-1777127400@350bayarea.org
SUMMARY:Intro to Grassroots Campaigning for Climate Action
DESCRIPTION:The 350 Bay Area Monthly Climate Action Meetings are an online event for people to get plugged in and charged up with climate action! Join this monthly call to take action together online for the climate. \nIn this hour\, we give a mini-training about an important topic or skill in climate organizing\, update you on local happenings in the climate movement\, and take actions together to make a real impact. \nRegister at our NEW Zoom link here\, and you’ll be registered for all of the year’s Monthly Climate Action Meetings! https://us02web.zoom.us/meeting/register/tZcoceChrT4uEtUs01qCJ1hYBWeg4p8n1jPQ
URL:https://350bayarea.org/event/intro-to-grassroots-campaigning-for-climate-action
LOCATION:Berkeley Animal Rights Center – West\, Berkeley
CATEGORIES:Community Building,Trainings
ATTACH;FMTTYPE=image/png:https://350bayarea.org/wp-content/uploads/2026/04/Screenshot-2026-03-31-at-11.51.18-AM.png
END:VEVENT
BEGIN:VEVENT
DTSTART;TZID=America/Los_Angeles:20260426T120000
DTEND;TZID=America/Los_Angeles:20260426T150000
DTSTAMP:20260423T113520
CREATED:20260407T185647Z
LAST-MODIFIED:20260407T185647Z
UID:16097-1777204800-1777215600@350bayarea.org
SUMMARY:Bay Area Youth Climate Summit Earth Day Festival
DESCRIPTION:The 350 Bay Area Monthly Climate Action Meetings are an online event for people to get plugged in and charged up with climate action! Join this monthly call to take action together online for the climate. \nIn this hour\, we give a mini-training about an important topic or skill in climate organizing\, update you on local happenings in the climate movement\, and take actions together to make a real impact. \nRegister at our NEW Zoom link here\, and you’ll be registered for all of the year’s Monthly Climate Action Meetings! https://us02web.zoom.us/meeting/register/tZcoceChrT4uEtUs01qCJ1hYBWeg4p8n1jPQ
URL:https://www.eventbrite.com/e/2026-baycs-earth-day-festival-tickets-1985418430973#new_tab
LOCATION:Panhandle Park\, Stanyan St. & Fell St.\, San Francisco
CATEGORIES:Fairs and Festivals
ATTACH;FMTTYPE=image/png:https://350bayarea.org/wp-content/uploads/2026/04/Screenshot-2026-04-07-115558.png
END:VEVENT
BEGIN:VEVENT
DTSTART;TZID=America/Los_Angeles:20260427T180000
DTEND;TZID=America/Los_Angeles:20260427T210000
DTSTAMP:20260423T113520
CREATED:20260407T190841Z
LAST-MODIFIED:20260407T223223Z
UID:16107-1777312800-1777323600@350bayarea.org
SUMMARY:Film Screening: This is Not a Drill
DESCRIPTION:The 350 Bay Area Monthly Climate Action Meetings are an online event for people to get plugged in and charged up with climate action! Join this monthly call to take action together online for the climate. \nIn this hour\, we give a mini-training about an important topic or skill in climate organizing\, update you on local happenings in the climate movement\, and take actions together to make a real impact. \nRegister at our NEW Zoom link here\, and you’ll be registered for all of the year’s Monthly Climate Action Meetings! https://us02web.zoom.us/meeting/register/tZcoceChrT4uEtUs01qCJ1hYBWeg4p8n1jPQ
URL:https://actionnetwork.org/ticketed_events/screening-of-this-is-not-a-drill#new_tab
LOCATION:New Parkway Theater\, 474 24th St\,\, Oakland
CATEGORIES:Arts and Culture,Community Building
END:VEVENT
BEGIN:VEVENT
DTSTART;TZID=America/Los_Angeles:20260428T173000
DTEND;TZID=America/Los_Angeles:20260428T183000
DTSTAMP:20260423T113520
CREATED:20260413T230232Z
LAST-MODIFIED:20260413T230232Z
UID:16117-1777397400-1777401000@350bayarea.org
SUMMARY:Make Polluters Pay Resolution at the Alameda School Board
DESCRIPTION:The 350 Bay Area Monthly Climate Action Meetings are an online event for people to get plugged in and charged up with climate action! Join this monthly call to take action together online for the climate. \nIn this hour\, we give a mini-training about an important topic or skill in climate organizing\, update you on local happenings in the climate movement\, and take actions together to make a real impact. \nRegister at our NEW Zoom link here\, and you’ll be registered for all of the year’s Monthly Climate Action Meetings! https://us02web.zoom.us/meeting/register/tZcoceChrT4uEtUs01qCJ1hYBWeg4p8n1jPQ
URL:https://350bayarea.org/event/make-polluters-pay-resolution-at-the-alameda-school-board
LOCATION:Alameda City Hall\, 2263 Santa Clara Avenue\, Alameda\, CA\, United States
CATEGORIES:Actions
ATTACH;FMTTYPE=image/webp:https://350bayarea.org/wp-content/uploads/2026/04/MPP-Basic.webp
GEO:37.7664637;-122.2434831
X-APPLE-STRUCTURED-LOCATION;VALUE=URI;X-ADDRESS=Alameda City Hall 2263 Santa Clara Avenue Alameda CA United States;X-APPLE-RADIUS=500;X-TITLE=2263 Santa Clara Avenue:geo:-122.2434831,37.7664637
END:VEVENT
BEGIN:VEVENT
DTSTART;TZID=America/Los_Angeles:20260428T174500
DTEND;TZID=America/Los_Angeles:20260428T190000
DTSTAMP:20260423T113520
CREATED:20260423T011108Z
LAST-MODIFIED:20260423T011108Z
UID:16205-1777398300-1777402800@350bayarea.org
SUMMARY:Contra Costa County Residents: Stand up to Carbon Dumping Scheme
DESCRIPTION:The 350 Bay Area Monthly Climate Action Meetings are an online event for people to get plugged in and charged up with climate action! Join this monthly call to take action together online for the climate. \nIn this hour\, we give a mini-training about an important topic or skill in climate organizing\, update you on local happenings in the climate movement\, and take actions together to make a real impact. \nRegister at our NEW Zoom link here\, and you’ll be registered for all of the year’s Monthly Climate Action Meetings! https://us02web.zoom.us/meeting/register/tZcoceChrT4uEtUs01qCJ1hYBWeg4p8n1jPQ
URL:https://350bayarea.org/event/contra-costa-county-residents-stand-up-to-carbon-dumping-scheme
CATEGORIES:Actions,Deadline
END:VEVENT
END:VCALENDAR