BEGIN:VCALENDAR
VERSION:2.0
PRODID:-//350 Bay Area | For The Climate - ECPv6.0.1.1//NONSGML v1.0//EN
CALSCALE:GREGORIAN
METHOD:PUBLISH
X-ORIGINAL-URL:https://350bayarea.org
X-WR-CALDESC:Events for 350 Bay Area | For The Climate
REFRESH-INTERVAL;VALUE=DURATION:PT1H
X-Robots-Tag:noindex
X-PUBLISHED-TTL:PT1H
BEGIN:VTIMEZONE
TZID:America/Los_Angeles
BEGIN:DAYLIGHT
TZOFFSETFROM:-0800
TZOFFSETTO:-0700
TZNAME:PDT
DTSTART:20260308T100000
END:DAYLIGHT
BEGIN:STANDARD
TZOFFSETFROM:-0700
TZOFFSETTO:-0800
TZNAME:PST
DTSTART:20261101T090000
END:STANDARD
BEGIN:DAYLIGHT
TZOFFSETFROM:-0800
TZOFFSETTO:-0700
TZNAME:PDT
DTSTART:20270314T100000
END:DAYLIGHT
BEGIN:STANDARD
TZOFFSETFROM:-0700
TZOFFSETTO:-0800
TZNAME:PST
DTSTART:20271107T090000
END:STANDARD
END:VTIMEZONE
BEGIN:VEVENT
DTSTART;TZID=America/Los_Angeles:20260418T103000
DTEND;TZID=America/Los_Angeles:20260418T120000
DTSTAMP:20260425T055205
CREATED:20260401T212937Z
LAST-MODIFIED:20260407T184630Z
UID:16069-1776508200-1776513600@350bayarea.org
SUMMARY:Still No Coal in Oakland!
DESCRIPTION:A community meeting in West Oakland will include a short history of our decade-long campaign\, updates about the current situation regarding a proposed coal terminal on West Oakland’s waterfront\, brainstorming in small groups about how we can make sure a coal terminal is never imposed on the West Oakland community\, and what you can do now to oppose would-be coal developers’ dystopian vision. This is a chance for residents to mobilize together to keep a dangerous pollutant out of the neighborhood.
URL:https://350bayarea.org/event/still-no-coal-in-oakland
LOCATION:DeFremery Park Meeting Hall\, 1651 Adeline St\, Oakland
CATEGORIES:Actions,Community Building,Meeting
END:VEVENT
BEGIN:VEVENT
DTSTART;TZID=America/Los_Angeles:20260418T103000
DTEND;TZID=America/Los_Angeles:20270220T120000
DTSTAMP:20260425T055205
CREATED:20220707T011038Z
LAST-MODIFIED:20260415T203701Z
UID:12565-1776508200-1803124800@350bayarea.org
SUMMARY:350 SF Monthly Meeting
DESCRIPTION:Let’s Get the City Dealing with the Emergency.\nGet updates on what’s happened with the Board of Supervisors\, Environment Department\, the Mayor\, electrification\, public transit and our climate and equity allies as we push for sufficient funds for climate emergency work. \nUntil the town is GHG-free\, our teams will be visiting\, calling and emailing city Supervisors\, together with allies. We’ll be working to educate ourselves and everyone on the latest in local action for an equitable shift to carbon-free energy and regenerated soil. \nWe need your ideas and input. Old friends\, new members\, and returning members welcome. We look forward to seeing you on Saturday from 10:30 am – 12:00 pm \nRSVP BELOW for links to the meeting and agenda
URL:https://350bayarea.org/event/350-sf-monthly-meeting/2026-04-18
CATEGORIES:Meeting
ATTACH;FMTTYPE=image/jpeg:https://350bayarea.org/wp-content/uploads/2022/07/IMG-1758-scaled.jpg
END:VEVENT
END:VCALENDAR