BEGIN:VCALENDAR
VERSION:2.0
PRODID:-//350 Bay Area | For The Climate - ECPv6.0.1.1//NONSGML v1.0//EN
CALSCALE:GREGORIAN
METHOD:PUBLISH
X-WR-CALNAME:350 Bay Area | For The Climate
X-ORIGINAL-URL:https://350bayarea.org
X-WR-CALDESC:Events for 350 Bay Area | For The Climate
REFRESH-INTERVAL;VALUE=DURATION:PT1H
X-Robots-Tag:noindex
X-PUBLISHED-TTL:PT1H
BEGIN:VTIMEZONE
TZID:America/Los_Angeles
BEGIN:DAYLIGHT
TZOFFSETFROM:-0800
TZOFFSETTO:-0700
TZNAME:PDT
DTSTART:20260308T100000
END:DAYLIGHT
BEGIN:STANDARD
TZOFFSETFROM:-0700
TZOFFSETTO:-0800
TZNAME:PST
DTSTART:20261101T090000
END:STANDARD
END:VTIMEZONE
BEGIN:VEVENT
DTSTART;TZID=America/Los_Angeles:20260414T180000
DTEND;TZID=America/Los_Angeles:20260414T190000
DTSTAMP:20260421T154247
CREATED:20260318T235110Z
LAST-MODIFIED:20260416T170511Z
UID:16025-1776189600-1776193200@350bayarea.org
SUMMARY:Sit in on 350 Marin Leadership Team Meeting
DESCRIPTION:If you might be interested in becoming more active in 350 Marin\, or consider joining our Steering Committee\, come sit in on our Steering Committee Zoom Meeting on Tuesday\, April 14th at 6:00pm. \nPlease RSVP here for a meeting link\, or contact us at info@350marin.org for more information. \n 
URL:https://350bayarea.org/event/sit-in-on-350-marin-leadership-team-meeting
CATEGORIES:Meeting
ATTACH;FMTTYPE=image/png:https://350bayarea.org/wp-content/uploads/2026/03/350marin.png
END:VEVENT
END:VCALENDAR