BEGIN:VCALENDAR
VERSION:2.0
PRODID:-//350 Bay Area | For The Climate - ECPv6.0.1.1//NONSGML v1.0//EN
CALSCALE:GREGORIAN
METHOD:PUBLISH
X-WR-CALNAME:350 Bay Area | For The Climate
X-ORIGINAL-URL:https://350bayarea.org
X-WR-CALDESC:Events for 350 Bay Area | For The Climate
REFRESH-INTERVAL;VALUE=DURATION:PT1H
X-Robots-Tag:noindex
X-PUBLISHED-TTL:PT1H
BEGIN:VTIMEZONE
TZID:America/Los_Angeles
BEGIN:DAYLIGHT
TZOFFSETFROM:-0800
TZOFFSETTO:-0700
TZNAME:PDT
DTSTART:20250309T100000
END:DAYLIGHT
BEGIN:STANDARD
TZOFFSETFROM:-0700
TZOFFSETTO:-0800
TZNAME:PST
DTSTART:20251102T090000
END:STANDARD
END:VTIMEZONE
BEGIN:VEVENT
DTSTART;TZID=America/Los_Angeles:20250429T190000
DTEND;TZID=America/Los_Angeles:20250429T200000
DTSTAMP:20260424T175135
CREATED:20250325T012143Z
LAST-MODIFIED:20250325T012143Z
UID:14047-1745953200-1745956800@350bayarea.org
SUMMARY:Wild and Scenic Film Festival
DESCRIPTION:Celebrate Earth Day with the 2025 Wild and Scenic Film Festival!  on Saturday\, April 29 at 7 PM. Featuring this year’s audience favorites from hundreds of films that inspire environmental activism and a love of nature. Wild &; Scenic shares an urgent call to action\, encouraging festival-goers to learn more about what they can do to save our threatened planet.\n\nTickets\, film program\, and more information can be found at https://cclalameda.org/wsff-2025/\nUse code CCLALA for a $5 discount on tickets. All proceeds go to support the work of Citizens Climate Lobby.
URL:https://350bayarea.org/event/wild-and-scenic-film-festival
ATTACH;FMTTYPE=image/png:https://350bayarea.org/wp-content/uploads/2025/03/Tickets-On-Sale-Now-1640-x-924.png
END:VEVENT
END:VCALENDAR