BEGIN:VCALENDAR
VERSION:2.0
PRODID:-//350 Bay Area | For The Climate - ECPv6.0.1.1//NONSGML v1.0//EN
CALSCALE:GREGORIAN
METHOD:PUBLISH
X-ORIGINAL-URL:https://350bayarea.org
X-WR-CALDESC:Events for 350 Bay Area | For The Climate
REFRESH-INTERVAL;VALUE=DURATION:PT1H
X-Robots-Tag:noindex
X-PUBLISHED-TTL:PT1H
BEGIN:VTIMEZONE
TZID:America/Los_Angeles
BEGIN:DAYLIGHT
TZOFFSETFROM:-0800
TZOFFSETTO:-0700
TZNAME:PDT
DTSTART:20250309T100000
END:DAYLIGHT
BEGIN:STANDARD
TZOFFSETFROM:-0700
TZOFFSETTO:-0800
TZNAME:PST
DTSTART:20251102T090000
END:STANDARD
END:VTIMEZONE
BEGIN:VEVENT
DTSTART;TZID=America/Los_Angeles:20250411T110000
DTEND;TZID=America/Los_Angeles:20250411T130000
DTSTAMP:20260424T122014
CREATED:20250325T070332Z
LAST-MODIFIED:20250325T183649Z
UID:14057-1744369200-1744376400@350bayarea.org
SUMMARY:Youth-Led Climate Strike: Make Polluters Pay!
DESCRIPTION:On Friday\, April 11th\, we’re taking to the streets as part of the Fridays for Future Global Climate Strike to demand that California lawmakers Make Polluters Pay! We demand that the biggest fossil fuel polluters pay their fair share for the climate destruction they’ve caused—rather than leaving taxpayers to cover the cost. \nThe climate crisis is here\, and Big Oil is making billions while we pay the price. Californians are dealing with wildfires\, floods\, skyrocketing insurance rates\, and crumbling infrastructure—all while fossil fuel companies rake in profits. It’s time to fight back.  \nLocation: Crocker Park\, with a short march to the Capitol building \nTime: 11:00 AM \nWe need YOU to help us send a clear message: Polluters must pay! Show up\, support\, and raise your voice for climate action.
URL:https://350bayarea.org/event/youth-led-climate-strike-make-polluters-pay
ATTACH;FMTTYPE=image/png:https://350bayarea.org/wp-content/uploads/2025/03/mppsactocropped.png
END:VEVENT
END:VCALENDAR