BEGIN:VCALENDAR
VERSION:2.0
PRODID:-//350 Bay Area | For The Climate - ECPv6.0.1.1//NONSGML v1.0//EN
CALSCALE:GREGORIAN
METHOD:PUBLISH
X-ORIGINAL-URL:https://350bayarea.org
X-WR-CALDESC:Events for 350 Bay Area | For The Climate
REFRESH-INTERVAL;VALUE=DURATION:PT1H
X-Robots-Tag:noindex
X-PUBLISHED-TTL:PT1H
BEGIN:VTIMEZONE
TZID:America/Los_Angeles
BEGIN:DAYLIGHT
TZOFFSETFROM:-0800
TZOFFSETTO:-0700
TZNAME:PDT
DTSTART:20250309T100000
END:DAYLIGHT
BEGIN:STANDARD
TZOFFSETFROM:-0700
TZOFFSETTO:-0800
TZNAME:PST
DTSTART:20251102T090000
END:STANDARD
END:VTIMEZONE
BEGIN:VEVENT
DTSTART;TZID=America/Los_Angeles:20250225T170000
DTEND;TZID=America/Los_Angeles:20250225T180000
DTSTAMP:20260424T134450
CREATED:20250213T024844Z
LAST-MODIFIED:20260416T170442Z
UID:13943-1740502800-1740506400@350bayarea.org
SUMMARY:350 Bay Area Monthly Climate Action Meeting
DESCRIPTION:The 350 Bay Area Monthly Climate Action Meetings are an online event for people to get plugged in and charged up with climate action! Join this monthly call to take action together online for the climate. \nIn this hour\, we give a mini-training about an important topic or skill in climate organizing\, update you on local happenings in the climate movement\, and take actions together to make a real impact. \nRegister at our NEW Zoom link here\, and you’ll be registered for all of the year’s Monthly Climate Action Meetings! https://us02web.zoom.us/meeting/register/tZcoceChrT4uEtUs01qCJ1hYBWeg4p8n1jPQ
URL:https://350bayarea.org/event/mcam/2025-02-25
CATEGORIES:Meeting
ATTACH;FMTTYPE=image/png:https://350bayarea.org/wp-content/uploads/2023/01/MCAM-2.png
END:VEVENT
END:VCALENDAR