BEGIN:VCALENDAR
VERSION:2.0
PRODID:-//350 Bay Area | For The Climate - ECPv6.0.1.1//NONSGML v1.0//EN
CALSCALE:GREGORIAN
METHOD:PUBLISH
X-ORIGINAL-URL:https://350bayarea.org
X-WR-CALDESC:Events for 350 Bay Area | For The Climate
REFRESH-INTERVAL;VALUE=DURATION:PT1H
X-Robots-Tag:noindex
X-PUBLISHED-TTL:PT1H
BEGIN:VTIMEZONE
TZID:America/Los_Angeles
BEGIN:DAYLIGHT
TZOFFSETFROM:-0800
TZOFFSETTO:-0700
TZNAME:PDT
DTSTART:20240310T100000
END:DAYLIGHT
BEGIN:STANDARD
TZOFFSETFROM:-0700
TZOFFSETTO:-0800
TZNAME:PST
DTSTART:20241103T090000
END:STANDARD
END:VTIMEZONE
BEGIN:VEVENT
DTSTART;TZID=America/Los_Angeles:20240429T123000
DTEND;TZID=America/Los_Angeles:20240429T123000
DTSTAMP:20260424T134435
CREATED:20240328T210818Z
LAST-MODIFIED:20240328T210818Z
UID:12501-1714393800-1714393800@350bayarea.org
SUMMARY:Climate Health Now: Focus on Healthcare Sustainability in California
DESCRIPTION:Please join us for an educational webinar related to healthcare sustainability in California! \nCLICK HERE TO REGISTER!
URL:https://350bayarea.org/event/climate-health-now-focus-on-healthcare-sustainability-in-california
ATTACH;FMTTYPE=image/png:https://350bayarea.org/wp-content/uploads/2024/03/ScreenShot2024-03-06at6.08.41PM.png
END:VEVENT
END:VCALENDAR