BEGIN:VCALENDAR
VERSION:2.0
PRODID:-//350 Bay Area | For The Climate - ECPv6.0.1.1//NONSGML v1.0//EN
CALSCALE:GREGORIAN
METHOD:PUBLISH
X-ORIGINAL-URL:https://350bayarea.org
X-WR-CALDESC:Events for 350 Bay Area | For The Climate
REFRESH-INTERVAL;VALUE=DURATION:PT1H
X-Robots-Tag:noindex
X-PUBLISHED-TTL:PT1H
BEGIN:VTIMEZONE
TZID:America/Los_Angeles
BEGIN:DAYLIGHT
TZOFFSETFROM:-0800
TZOFFSETTO:-0700
TZNAME:PDT
DTSTART:20230312T100000
END:DAYLIGHT
BEGIN:STANDARD
TZOFFSETFROM:-0700
TZOFFSETTO:-0800
TZNAME:PST
DTSTART:20231105T090000
END:STANDARD
END:VTIMEZONE
BEGIN:VEVENT
DTSTART;TZID=America/Los_Angeles:20230204T170000
DTEND;TZID=America/Los_Angeles:20230204T170000
DTSTAMP:20260424T105639
CREATED:20230113T053111Z
LAST-MODIFIED:20230116T220219Z
UID:10386-1675530000-1675530000@350bayarea.org
SUMMARY:Rosa Parks Transit Equity Day - 'I Ride Transit' Sticker Distribution
DESCRIPTION:Come and distribute “I Ride Transit” stickers to transit riders attending the Chinese Lunar New Year Parade\, which will occur on February 4\, Transit Equity Day.  Transit is the climate-friendly way to go\, and San Francisco is a “Transit First” City.  Help transit riders be visible! \nEveryone deserves good transit. Unions\, transit rider organizers\, and climate and environmental justice groups are coming together in plan actions to take place on February 4\, Rosa Parks’ birthday\, and to declare transit equity as a civil right. \nJoin us on February 4 for exciting action to expand public transportation while building worker power and addressing climate change at the same time. \nStart: Saturday\, February 04\, 2023 at 5:00 PM\nLocation: Union Square  291 Geary St.\, San Francisco\, CA 94102\nRSVP here to get alerts: https://actionnetwork.org/events/i-ride-transit-sticker-distribution
URL:https://350bayarea.org/event/i-ride-transit-sticker-distribution
ATTACH;FMTTYPE=image/jpeg:https://350bayarea.org/wp-content/uploads/2023/01/stickers.jpg
END:VEVENT
END:VCALENDAR